BEGIN:VCALENDAR
VERSION:2.0
PRODID:-//Acepp So - ECPv6.13.2.1//NONSGML v1.0//EN
CALSCALE:GREGORIAN
METHOD:PUBLISH
X-WR-CALNAME:Acepp So
X-ORIGINAL-URL:https://acepp-so.fr
X-WR-CALDESC:Évènements pour Acepp So
REFRESH-INTERVAL;VALUE=DURATION:PT1H
X-Robots-Tag:noindex
X-PUBLISHED-TTL:PT1H
BEGIN:VTIMEZONE
TZID:Europe/Paris
BEGIN:DAYLIGHT
TZOFFSETFROM:+0100
TZOFFSETTO:+0200
TZNAME:CEST
DTSTART:20260329T010000
END:DAYLIGHT
BEGIN:STANDARD
TZOFFSETFROM:+0200
TZOFFSETTO:+0100
TZNAME:CET
DTSTART:20261025T010000
END:STANDARD
END:VTIMEZONE
BEGIN:VEVENT
DTSTART;TZID=Europe/Paris:20260604T100000
DTEND;TZID=Europe/Paris:20260604T110000
DTSTAMP:20260421T165440
CREATED:20260420T142031Z
LAST-MODIFIED:20260420T142031Z
UID:5492-1780567200-1780570800@acepp-so.fr
SUMMARY:L'escale des pros
DESCRIPTION:Venez échanger entre direction\, tout simplement (visio réservée aux adhérents).
URL:https://acepp-so.fr/event/lescale-des-pros-22/
CATEGORIES:L'escale des pros
END:VEVENT
END:VCALENDAR